BEGIN:VCALENDAR
VERSION:2.0
PRODID:-//Pole Soul - ECPv6.15.14//NONSGML v1.0//EN
CALSCALE:GREGORIAN
METHOD:PUBLISH
X-ORIGINAL-URL:https://mlg.yourws.at
X-WR-CALDESC:Veranstaltungen für Pole Soul
REFRESH-INTERVAL;VALUE=DURATION:PT1H
X-Robots-Tag:noindex
X-PUBLISHED-TTL:PT1H
BEGIN:VTIMEZONE
TZID:UTC
BEGIN:STANDARD
TZOFFSETFROM:+0000
TZOFFSETTO:+0000
TZNAME:UTC
DTSTART:20250101T000000
END:STANDARD
END:VTIMEZONE
BEGIN:VEVENT
DTSTART;TZID=UTC:20260905T104500
DTEND;TZID=UTC:20260905T121500
DTSTAMP:20260425T185210
CREATED:20260121T160358Z
LAST-MODIFIED:20260121T160407Z
UID:10005725-1788605100-1788610500@mlg.yourws.at
SUMMARY:INTERMEDIATE Wien 10 - Level 4
DESCRIPTION:ABO: €99\,-/Monat (Eisenstadt) €109\,-/Monat (Wien) | „5-er Block“: €149\,- (Eisenstadt) €162\,- (Wien) \nVielen Dank für deine Anmeldung 🙂 \nDein Pole Dance Kurs “ INTERMEDIATE – Level 4″ im Studio WIEN 10 umfasst 20 Einheiten und findet ab Samstag\, 09.05. um 10:45 Uhr (bis 26.09.) statt. Du lernst Schritt für Schritt neue Moves\, Kombis & Tricks. Die Schwungkraft kommt aus deiner Körperbewegung. \nIm Level 4 Kurs bist du schon gut ausgebildet und bereit für anspruchsvollere Figuren! \nDein 20-Einheiten Kurs umfasst:  \n5 Einheiten Static = Stange ist fixiert \n5 Einheiten Spinning = Stange dreht sich \n5 Einheiten „Fit for Pole“ = wir machen dich fit mit Stretching\, Aerobic\, Split-Training und Spielen. \n5 Einheiten Choreo = zu einem Musikstück kombiniert ihr die erlernten Figuren zu einer Choreographie \nANMELDUNG (bitte Startdatum in die Nachricht schreiben!): Kontakt | Pole Soul Eisenstadt & Wien 10 ► Jetzt melden! \nAlle Infos findest du auch auf www.pole-soul.at \nMerkliste: \n\nam Kurstag bitte NICHT eincreme (Bodylotion\, Handcreme\,…)\nlange Hose (Jogger\, Leggings) + kurze Hose (Hot-Pants\, Shorts\,…)\nkurze Sportsocken\, die über dem Knöchel enden\nShirt + vielleicht auch etwas Langärmeliges zum Drüberziehen\ngroßes Handtuch (als Auflage der Gymnastikmatte)\nGetränke sind auch im Studio erhältlich\n\nAdresse/Kontakt: \n\nPole Soul Wien 10 im Sonnwendviertel\nBloch-Bauer-Promenade 13\, 1100 Wien\n0664 / 53 35 139\nwien10@pole-soul.at\n\nMelde dich gerne bei mir\, wenn du Fragen hast\, viel Spaß im Training 🙂
URL:https://mlg.yourws.at/event/intermediate-wien-10-level-4-8/2026-09-05/
LOCATION:Pole Soul | Wien 10\, Bloch-Bauer-Promenade 13\, Wien\, Wien\, 1100\, Austria
CATEGORIES:Pole Soul | Wien 10
ATTACH;FMTTYPE=image/jpeg:https://mlg.yourws.at/wp-content/uploads/2025/06/IMG_2392-scaled.jpg
ORGANIZER;CN="Pole Soul Wien 10 | Tanz deine Seele frei.":MAILTO:wien10@pole-soul.at
END:VEVENT
BEGIN:VEVENT
DTSTART;TZID=UTC:20260912T104500
DTEND;TZID=UTC:20260912T121500
DTSTAMP:20260425T185210
CREATED:20260121T160358Z
LAST-MODIFIED:20260121T160407Z
UID:10005726-1789209900-1789215300@mlg.yourws.at
SUMMARY:INTERMEDIATE Wien 10 - Level 4
DESCRIPTION:ABO: €99\,-/Monat (Eisenstadt) €109\,-/Monat (Wien) | „5-er Block“: €149\,- (Eisenstadt) €162\,- (Wien) \nVielen Dank für deine Anmeldung 🙂 \nDein Pole Dance Kurs “ INTERMEDIATE – Level 4″ im Studio WIEN 10 umfasst 20 Einheiten und findet ab Samstag\, 09.05. um 10:45 Uhr (bis 26.09.) statt. Du lernst Schritt für Schritt neue Moves\, Kombis & Tricks. Die Schwungkraft kommt aus deiner Körperbewegung. \nIm Level 4 Kurs bist du schon gut ausgebildet und bereit für anspruchsvollere Figuren! \nDein 20-Einheiten Kurs umfasst:  \n5 Einheiten Static = Stange ist fixiert \n5 Einheiten Spinning = Stange dreht sich \n5 Einheiten „Fit for Pole“ = wir machen dich fit mit Stretching\, Aerobic\, Split-Training und Spielen. \n5 Einheiten Choreo = zu einem Musikstück kombiniert ihr die erlernten Figuren zu einer Choreographie \nANMELDUNG (bitte Startdatum in die Nachricht schreiben!): Kontakt | Pole Soul Eisenstadt & Wien 10 ► Jetzt melden! \nAlle Infos findest du auch auf www.pole-soul.at \nMerkliste: \n\nam Kurstag bitte NICHT eincreme (Bodylotion\, Handcreme\,…)\nlange Hose (Jogger\, Leggings) + kurze Hose (Hot-Pants\, Shorts\,…)\nkurze Sportsocken\, die über dem Knöchel enden\nShirt + vielleicht auch etwas Langärmeliges zum Drüberziehen\ngroßes Handtuch (als Auflage der Gymnastikmatte)\nGetränke sind auch im Studio erhältlich\n\nAdresse/Kontakt: \n\nPole Soul Wien 10 im Sonnwendviertel\nBloch-Bauer-Promenade 13\, 1100 Wien\n0664 / 53 35 139\nwien10@pole-soul.at\n\nMelde dich gerne bei mir\, wenn du Fragen hast\, viel Spaß im Training 🙂
URL:https://mlg.yourws.at/event/intermediate-wien-10-level-4-8/2026-09-12/
LOCATION:Pole Soul | Wien 10\, Bloch-Bauer-Promenade 13\, Wien\, Wien\, 1100\, Austria
CATEGORIES:Pole Soul | Wien 10
ATTACH;FMTTYPE=image/jpeg:https://mlg.yourws.at/wp-content/uploads/2025/06/IMG_2392-scaled.jpg
ORGANIZER;CN="Pole Soul Wien 10 | Tanz deine Seele frei.":MAILTO:wien10@pole-soul.at
END:VEVENT
BEGIN:VEVENT
DTSTART;TZID=UTC:20260919T104500
DTEND;TZID=UTC:20260919T121500
DTSTAMP:20260425T185210
CREATED:20260121T160358Z
LAST-MODIFIED:20260121T160407Z
UID:10005727-1789814700-1789820100@mlg.yourws.at
SUMMARY:INTERMEDIATE Wien 10 - Level 4
DESCRIPTION:ABO: €99\,-/Monat (Eisenstadt) €109\,-/Monat (Wien) | „5-er Block“: €149\,- (Eisenstadt) €162\,- (Wien) \nVielen Dank für deine Anmeldung 🙂 \nDein Pole Dance Kurs “ INTERMEDIATE – Level 4″ im Studio WIEN 10 umfasst 20 Einheiten und findet ab Samstag\, 09.05. um 10:45 Uhr (bis 26.09.) statt. Du lernst Schritt für Schritt neue Moves\, Kombis & Tricks. Die Schwungkraft kommt aus deiner Körperbewegung. \nIm Level 4 Kurs bist du schon gut ausgebildet und bereit für anspruchsvollere Figuren! \nDein 20-Einheiten Kurs umfasst:  \n5 Einheiten Static = Stange ist fixiert \n5 Einheiten Spinning = Stange dreht sich \n5 Einheiten „Fit for Pole“ = wir machen dich fit mit Stretching\, Aerobic\, Split-Training und Spielen. \n5 Einheiten Choreo = zu einem Musikstück kombiniert ihr die erlernten Figuren zu einer Choreographie \nANMELDUNG (bitte Startdatum in die Nachricht schreiben!): Kontakt | Pole Soul Eisenstadt & Wien 10 ► Jetzt melden! \nAlle Infos findest du auch auf www.pole-soul.at \nMerkliste: \n\nam Kurstag bitte NICHT eincreme (Bodylotion\, Handcreme\,…)\nlange Hose (Jogger\, Leggings) + kurze Hose (Hot-Pants\, Shorts\,…)\nkurze Sportsocken\, die über dem Knöchel enden\nShirt + vielleicht auch etwas Langärmeliges zum Drüberziehen\ngroßes Handtuch (als Auflage der Gymnastikmatte)\nGetränke sind auch im Studio erhältlich\n\nAdresse/Kontakt: \n\nPole Soul Wien 10 im Sonnwendviertel\nBloch-Bauer-Promenade 13\, 1100 Wien\n0664 / 53 35 139\nwien10@pole-soul.at\n\nMelde dich gerne bei mir\, wenn du Fragen hast\, viel Spaß im Training 🙂
URL:https://mlg.yourws.at/event/intermediate-wien-10-level-4-8/2026-09-19/
LOCATION:Pole Soul | Wien 10\, Bloch-Bauer-Promenade 13\, Wien\, Wien\, 1100\, Austria
CATEGORIES:Pole Soul | Wien 10
ATTACH;FMTTYPE=image/jpeg:https://mlg.yourws.at/wp-content/uploads/2025/06/IMG_2392-scaled.jpg
ORGANIZER;CN="Pole Soul Wien 10 | Tanz deine Seele frei.":MAILTO:wien10@pole-soul.at
END:VEVENT
BEGIN:VEVENT
DTSTART;TZID=UTC:20260926T104500
DTEND;TZID=UTC:20260926T121500
DTSTAMP:20260425T185210
CREATED:20260121T160358Z
LAST-MODIFIED:20260121T160407Z
UID:10005728-1790419500-1790424900@mlg.yourws.at
SUMMARY:INTERMEDIATE Wien 10 - Level 4
DESCRIPTION:ABO: €99\,-/Monat (Eisenstadt) €109\,-/Monat (Wien) | „5-er Block“: €149\,- (Eisenstadt) €162\,- (Wien) \nVielen Dank für deine Anmeldung 🙂 \nDein Pole Dance Kurs “ INTERMEDIATE – Level 4″ im Studio WIEN 10 umfasst 20 Einheiten und findet ab Samstag\, 09.05. um 10:45 Uhr (bis 26.09.) statt. Du lernst Schritt für Schritt neue Moves\, Kombis & Tricks. Die Schwungkraft kommt aus deiner Körperbewegung. \nIm Level 4 Kurs bist du schon gut ausgebildet und bereit für anspruchsvollere Figuren! \nDein 20-Einheiten Kurs umfasst:  \n5 Einheiten Static = Stange ist fixiert \n5 Einheiten Spinning = Stange dreht sich \n5 Einheiten „Fit for Pole“ = wir machen dich fit mit Stretching\, Aerobic\, Split-Training und Spielen. \n5 Einheiten Choreo = zu einem Musikstück kombiniert ihr die erlernten Figuren zu einer Choreographie \nANMELDUNG (bitte Startdatum in die Nachricht schreiben!): Kontakt | Pole Soul Eisenstadt & Wien 10 ► Jetzt melden! \nAlle Infos findest du auch auf www.pole-soul.at \nMerkliste: \n\nam Kurstag bitte NICHT eincreme (Bodylotion\, Handcreme\,…)\nlange Hose (Jogger\, Leggings) + kurze Hose (Hot-Pants\, Shorts\,…)\nkurze Sportsocken\, die über dem Knöchel enden\nShirt + vielleicht auch etwas Langärmeliges zum Drüberziehen\ngroßes Handtuch (als Auflage der Gymnastikmatte)\nGetränke sind auch im Studio erhältlich\n\nAdresse/Kontakt: \n\nPole Soul Wien 10 im Sonnwendviertel\nBloch-Bauer-Promenade 13\, 1100 Wien\n0664 / 53 35 139\nwien10@pole-soul.at\n\nMelde dich gerne bei mir\, wenn du Fragen hast\, viel Spaß im Training 🙂
URL:https://mlg.yourws.at/event/intermediate-wien-10-level-4-8/2026-09-26/
LOCATION:Pole Soul | Wien 10\, Bloch-Bauer-Promenade 13\, Wien\, Wien\, 1100\, Austria
CATEGORIES:Pole Soul | Wien 10
ATTACH;FMTTYPE=image/jpeg:https://mlg.yourws.at/wp-content/uploads/2025/06/IMG_2392-scaled.jpg
ORGANIZER;CN="Pole Soul Wien 10 | Tanz deine Seele frei.":MAILTO:wien10@pole-soul.at
END:VEVENT
END:VCALENDAR