BEGIN:VCALENDAR
VERSION:2.0
PRODID:-//Pole Soul - ECPv6.15.14//NONSGML v1.0//EN
CALSCALE:GREGORIAN
METHOD:PUBLISH
X-WR-CALNAME:Pole Soul
X-ORIGINAL-URL:https://mlg.yourws.at
X-WR-CALDESC:Veranstaltungen für Pole Soul
REFRESH-INTERVAL;VALUE=DURATION:PT1H
X-Robots-Tag:noindex
X-PUBLISHED-TTL:PT1H
BEGIN:VTIMEZONE
TZID:UTC
BEGIN:STANDARD
TZOFFSETFROM:+0000
TZOFFSETTO:+0000
TZNAME:UTC
DTSTART:20250101T000000
END:STANDARD
END:VTIMEZONE
BEGIN:VEVENT
DTSTART;TZID=UTC:20260426T091500
DTEND;TZID=UTC:20260426T101500
DTSTAMP:20260426T014357
CREATED:20250605T162018Z
LAST-MODIFIED:20260121T154558Z
UID:10000793-1777194900-1777198500@mlg.yourws.at
SUMMARY:KIDS POLE - Eisenstadt
DESCRIPTION:Pole Dance für Kinder bedeutet spielerisches Training & motorische Entwicklung!  \nVielen lieben Dank für deine Anmeldung 🙂 \nDein „Kids Pole“-Kurs im Studio EISENSTADT und findet immer am SONNTAG von 09:15 – 10:15 Uhr statt. Wir unterrichten Kids Pole nach einem speziellen Jugendtrainingsprogramm\, das die motorischen Fähigkeiten Deines Kindes gezielt fördert. Dein Kind trainiert Kraft und Koordination\, klettert und dreht sich spielerisch an der Stange. \n\nBLOCKKARTE = dein Kind kommt zu uns\, wenn es möchte!\nunsere Preise für Kinder sind bis zu 40 % günstiger\nJede Kids Pole-Einheit dauert 60 Minuten\n1 Begleitperson pro Kind ist erlaubt\nKein Kids Pole während den Schulferien\n\nBlockkarte (6 Monate gültig) = 4er Block € 69\,- (8er Block € 119\,-) \nDu bist im Pole-ABO & dein Kind besucht uns = 4er Block € 49\,- (8er Block € 89\,-) \nANMELDUNG (bitte gewünschtes Studio in die Nachricht schreiben!): Kontakt | Pole Soul Eisenstadt & Wien 10 ► Jetzt melden! \nAlle Infos findest du auch auf www.pole-soul.at \nMerkliste: \n\nam Kurstag bitte NICHT eincremen\nSportsachen + kurze Hose + kurze Sportsocken\nShirt + vielleicht auch etwas Langärmeliges zum Drüberziehen\ngroßes Handtuch (als Auflage der Gymnastikmatte)\nGetränke sind auch im Studio erhältlich\n\nAdresse/Kontakt: \n\nPole Soul Eisenstadt\nRuster Straße 23\, 7000 Eisenstadt\n0664 / 53 35 139\neisenstadt@pole-soul.at\n\nMelde dich gerne bei mir\, wenn du Fragen hast\, viel Spaß im Training 🙂
URL:https://mlg.yourws.at/event/kids-pole-eisenstadt/2026-04-26/
LOCATION:Pole Soul | Eisenstadt\, Bischof-Stefan-Laszlo Straße 17/GL3\, Eisenstadt\, Burgenland\, 7000\, Austria
CATEGORIES:Pole Soul | Eisenstadt
ATTACH;FMTTYPE=image/jpeg:https://mlg.yourws.at/wp-content/uploads/2025/06/IMG_2337-scaled.jpg
ORGANIZER;CN="Pole Soul Eisenstadt | Tanz deine Seele frei.":MAILTO:eisenstadt@pole-soul.at
END:VEVENT
BEGIN:VEVENT
DTSTART;TZID=UTC:20260426T093000
DTEND;TZID=UTC:20260426T103000
DTSTAMP:20260426T014358
CREATED:20250605T162326Z
LAST-MODIFIED:20260121T154321Z
UID:10001289-1777195800-1777199400@mlg.yourws.at
SUMMARY:KIDS POLE - Wien
DESCRIPTION:Pole Dance für Kinder bedeutet spielerisches Training & motorische Entwicklung!  \nVielen lieben Dank für deine Anmeldung 🙂 \nDein „Kids Pole“-Kurs im Studio WIEN 10 und findet immer am SONNTAG von 09:30 – 10:30 Uhr statt. Wir unterrichten Kids Pole nach einem speziellen Jugendtrainingsprogramm\, das die motorischen Fähigkeiten Deines Kindes gezielt fördert. Dein Kind trainiert Kraft und Koordination\, klettert und dreht sich spielerisch an der Stange. \n\nBLOCKKARTE = dein Kind kommt zu uns\, wenn es möchte!\nunsere Preise für Kinder sind bis zu 40 % günstiger\nJede Kids Pole-Einheit dauert 60 Minuten\n1 Begleitperson pro Kind ist erlaubt\nKein Kids Pole während den Schulferien\n\nBlockkarte (6 Monate gültig) = 4er Block € 69\,- (8er Block € 119\,-) \nDu bist im Pole-ABO & dein Kind besucht uns = 4er Block € 49\,- (8er Block € 89\,-) \nANMELDUNG (bitte gewünschtes Studio in die Nachricht schreiben!): Kontakt | Pole Soul Eisenstadt & Wien 10 ► Jetzt melden! \nAlle Infos findest du auch auf www.pole-soul.at \nMerkliste: \n\nam Kurstag bitte NICHT eincremen\nSportsachen + kurze Hose + kurze Sportsocken\nShirt + vielleicht auch etwas Langärmeliges zum Drüberziehen\ngroßes Handtuch (als Auflage der Gymnastikmatte)\nGetränke sind auch im Studio erhältlich\n\nAdresse/Kontakt: \n\nPole Soul Wien 10 (im Sonnwendviertel)\nBloch-Bauer-Promenade 13\, 1100 Wien\n0664 / 53 35 139\nwien10@pole-soul.at\n\nMelde dich gerne bei mir\, wenn du Fragen hast\, viel Spaß im Training 🙂
URL:https://mlg.yourws.at/event/kids-pole-wien/2026-04-26/
LOCATION:Pole Soul | Wien 10\, Bloch-Bauer-Promenade 13\, Wien\, Wien\, 1100\, Austria
CATEGORIES:Pole Soul | Wien 10
ATTACH;FMTTYPE=image/jpeg:https://mlg.yourws.at/wp-content/uploads/2025/06/20250119_075510482_iOS-scaled.jpg
ORGANIZER;CN="Pole Soul Wien 10 | Tanz deine Seele frei.":MAILTO:wien10@pole-soul.at
END:VEVENT
BEGIN:VEVENT
DTSTART;TZID=UTC:20260426T103000
DTEND;TZID=UTC:20260426T114500
DTSTAMP:20260426T014358
CREATED:20250607T020619Z
LAST-MODIFIED:20251022T011540Z
UID:10002286-1777199400-1777203900@mlg.yourws.at
SUMMARY:STRETCHING - Eisenstadt
DESCRIPTION:Du musst für unsere Stretching-Kurse NICHT Pole-Dance können! \nDein Stretching-Kurs im Studio EISENSTADT und findet wöchentlich am SONNTAG ab 10:30 Uhr statt. \nUnter unserer professionellen Anleitung und mit cooler Musik lernst du\, deine Muskeln\, Sehnen und Bänder flexibel zu machen und diese Flexibilität langfristig zu erhalten. Das bringt dir nicht nur große Vorteile für deine Pole-Dance-Einheiten\, sondern ist auch eine wichtige Grundlage für einen gesunden Bewegungsapparat im Alltag. \nGemeinsam macht Stretching viel mehr Spaß! \n\nBLOCKKARTE = du kommst zu uns\, wenn du Zeit hast!\nAb der zweiten Blockbuchung noch günstiger (im 8er Block ca. € 12\,-/Einheit)\nDeine Stretching-Einheit dauert 75 Minuten\n\n Blockkarte (6 Monate gültig): \n\n4er Block €64\,- (ab 2. Buchung € 56\,-)\n8er Block €112\,- (ab 2. Buchung € 98\,-)\n\nANMELDUNG (bitte gewünschtes Studio in die Nachricht schreiben!): Kontakt | Pole Soul Eisenstadt & Wien 10 ► Jetzt melden! \nAlle Infos findest du auch auf www.pole-soul.at \nMerkliste: \n\nSportsachen\, in denen du beweglich bist / Leggins\nvielleicht auch etwas Langärmeliges zum Drüberziehen\ngroßes Handtuch (als Auflage der Gymnastikmatte)\nGetränke sind auch im Studio erhältlich\n\nAdresse/Kontakt: \n\nPole Soul Eisenstadt\nBischof Stefan Laszlo-Straße 17 (GL3)\, 7000 Eisenstadt\n0664 / 53 35 139\neisenstadt@pole-soul.at\n\nMelde dich gerne bei mir\, wenn du Fragen hast\, viel Spaß im Training 🙂
URL:https://mlg.yourws.at/event/stretching-eisenstadt/2026-04-26/
LOCATION:Pole Soul | Eisenstadt\, Bischof-Stefan-Laszlo Straße 17/GL3\, Eisenstadt\, Burgenland\, 7000\, Austria
CATEGORIES:Pole Soul | Eisenstadt
ATTACH;FMTTYPE=image/jpeg:https://mlg.yourws.at/wp-content/uploads/2025/06/IMG_2337-scaled.jpg
ORGANIZER;CN="Pole Soul Eisenstadt | Tanz deine Seele frei.":MAILTO:eisenstadt@pole-soul.at
END:VEVENT
BEGIN:VEVENT
DTSTART;TZID=UTC:20260426T104500
DTEND;TZID=UTC:20260426T121500
DTSTAMP:20260426T014358
CREATED:20260121T155154Z
LAST-MODIFIED:20260121T155202Z
UID:10005660-1777200300-1777205700@mlg.yourws.at
SUMMARY:INTERMEDIATE Wien 10 - Level 3
DESCRIPTION:ABO: €99\,-/Monat (Eisenstadt) €109\,-/Monat (Wien) \nVielen Dank für deine Anmeldung 🙂 \nDein Pole Dance Kurs “ INTERMEDIATE – Level 3″ im Studio WIEN 10 umfasst 20 Einheiten und findet ab Sonntag\, 25.01. um 10:45 Uhr (bis 14.06.) statt. Du lernst Schritt für Schritt neue Moves\, Kombis & Tricks. Die Schwungkraft kommt aus deiner Körperbewegung. \nIm Level 3 Kurs hast du schon genug erlernt\, um erste Vorschläge und Ideen in deinen Unterricht einzubringen. \nDein 20-Einheiten Kurs umfasst:  \n5 Einheiten Static = Stange ist fixiert \n5 Einheiten Spinning = Stange dreht sich \n5 Einheiten „Fit for Pole“ = wir machen dich fit mit Stretching\, Aerobic\, Split-Training und Spielen. \n5 Einheiten Choreo = zu einem Musikstück kombiniert ihr die erlernten Figuren zu einer Choreographie \nANMELDUNG (bitte Startdatum in die Nachricht schreiben!): Kontakt | Pole Soul Eisenstadt & Wien 10 ► Jetzt melden! \nAlle Infos findest du auch auf www.pole-soul.at \nMerkliste: \n\nam Kurstag bitte NICHT eincreme (Bodylotion\, Handcreme\,…)\nlange Hose (Jogger\, Leggings) + kurze Hose (Hot-Pants\, Shorts\,…)\nkurze Sportsocken\, die über dem Knöchel enden\nShirt + vielleicht auch etwas Langärmeliges zum Drüberziehen\ngroßes Handtuch (als Auflage der Gymnastikmatte)\nGetränke sind auch im Studio erhältlich\n\nAdresse/Kontakt: \n\nPole Soul Wien 10 im Sonnwendviertel\nBloch-Bauer-Promenade 13\, 1100 Wien\n0664 / 53 35 139\nwien10@pole-soul.at\n\nMelde dich gerne bei mir\, wenn du Fragen hast\, viel Spaß im Training 🙂
URL:https://mlg.yourws.at/event/intermediate-wien-10-level-3-8/2026-04-26/
LOCATION:Pole Soul | Wien 10\, Bloch-Bauer-Promenade 13\, Wien\, Wien\, 1100\, Austria
CATEGORIES:Pole Soul | Wien 10
ATTACH;FMTTYPE=image/jpeg:https://mlg.yourws.at/wp-content/uploads/2025/06/20250119_075510482_iOS-scaled.jpg
ORGANIZER;CN="Pole Soul Wien 10 | Tanz deine Seele frei.":MAILTO:wien10@pole-soul.at
END:VEVENT
BEGIN:VEVENT
DTSTART;TZID=UTC:20260426T174500
DTEND;TZID=UTC:20260426T191500
DTSTAMP:20260426T014358
CREATED:20260121T104317Z
LAST-MODIFIED:20260121T104333Z
UID:10005221-1777225500-1777230900@mlg.yourws.at
SUMMARY:BASIC Wien 10 - Level 2
DESCRIPTION:ABO: €99\,-/Monat (Eisenstadt) €109\,-/Monat (Wien) \nVielen Dank für deine Anmeldung 🙂 \nDein Pole Dance Kurs „BASIC – Level 2“ im Studio WIEN 10 umfasst 20 Einheiten und findet ab Sonntag\, 29.03. um 17:45 Uhr (bis 16.08.) statt. Du lernst Schritt für Schritt Moves\, Kombis & Tricks. Die Schwungkraft kommt aus deiner Körperbewegung. \nIm Level 2 Kurs baust du auf die erlernten Figuren von Level 1 auf. \nDein 20-Einheiten Kurs umfasst:  \n5 Einheiten Static = Stange ist fixiert \n5 Einheiten Spinning = Stange dreht sich \n5 Einheiten „Fit for Pole“ = wir machen dich fit mit Stretching\, Aerobic\, Split-Training und Spielen. \n5 Einheiten Choreo = zu einem Musikstück kombiniert ihr die erlernten Figuren zu einer Choreographie \nANMELDUNG (bitte Startdatum in die Nachricht schreiben!): Kontakt | Pole Soul Eisenstadt & Wien 10 ► Jetzt melden! \nAlle Infos findest du auch auf www.pole-soul.at \nMerkliste: \n\nam Kurstag bitte NICHT eincreme (Bodylotion\, Handcreme\,…)\nlange Hose (Jogger\, Leggings) + kurze Hose (Hot-Pants\, Shorts\,…)\nkurze Sportsocken\, die über dem Knöchel enden\nShirt + vielleicht auch etwas Langärmeliges zum Drüberziehen\ngroßes Handtuch (als Auflage der Gymnastikmatte)\nGetränke sind auch im Studio erhältlich\n\nAdresse/Kontakt: \n\nPole Soul Wien 10 im Sonnwendviertel\nBloch-Bauer-Promenade 13\, 1100 Wien\n0664 / 53 35 139\nwien10@pole-soul.at\n\nMelde dich gerne bei mir\, wenn du Fragen hast\, viel Spaß im Training 🙂
URL:https://mlg.yourws.at/event/basic-wien-10-level-2-5/2026-04-26/
LOCATION:Pole Soul | Wien 10\, Bloch-Bauer-Promenade 13\, Wien\, Wien\, 1100\, Austria
CATEGORIES:Pole Soul | Wien 10
ORGANIZER;CN="Pole Soul Wien 10 | Tanz deine Seele frei.":MAILTO:wien10@pole-soul.at
END:VEVENT
END:VCALENDAR