BEGIN:VCALENDAR
VERSION:2.0
PRODID:-//Pole Soul - ECPv6.15.14//NONSGML v1.0//EN
CALSCALE:GREGORIAN
METHOD:PUBLISH
X-ORIGINAL-URL:https://mlg.yourws.at
X-WR-CALDESC:Veranstaltungen für Pole Soul
REFRESH-INTERVAL;VALUE=DURATION:PT1H
X-Robots-Tag:noindex
X-PUBLISHED-TTL:PT1H
BEGIN:VTIMEZONE
TZID:UTC
BEGIN:STANDARD
TZOFFSETFROM:+0000
TZOFFSETTO:+0000
TZNAME:UTC
DTSTART:20250101T000000
END:STANDARD
END:VTIMEZONE
BEGIN:VEVENT
DTSTART;TZID=UTC:20260306T175000
DTEND;TZID=UTC:20260306T192000
DTSTAMP:20260425T173847
CREATED:20251024T025815Z
LAST-MODIFIED:20260121T103658Z
UID:10004736-1772819400-1772824800@mlg.yourws.at
SUMMARY:HIGH HEELS - Eisenstadt
DESCRIPTION:ABO: €99\,-/Monat (Eisenstadt) \nVielen Dank für deine Anmeldung 🙂 \nDein Kurs “ HIGH HEELS“ mit Antonia im Studio EISENSTADT und findet immer freitags um 17:50 statt. Keine Vorkenntnisse nötig! \nHier lernst du deine High Heels beim Tanzen an der Stange gezielt einzusetzen. Dich erwarten Heel Clacks\, Drops\, sexy Moves & ein abwechslungsreicher laufender Kurs. Antonia ist unsere perfekte Trainerin für diesen einzigartigen Kurs in der Kleingruppe. \nHast du schon ein Abo bei uns\, dann bekommst du den zweiten Kurs um minus 50% \nANMELDUNG (bitte Startdatum in die Nachricht schreiben!): Kontakt | Pole Soul Eisenstadt & Wien 10 ► Jetzt melden! \nAlle Infos findest du auch auf www.pole-soul.at \nMerkliste: \n\nSportoutfit\nHigh Heels (unbedingt)\, wir empfehlen „7 Inch“ Heels für Beginner\nKnieschoner von Vorteil\ngroßes Handtuch (als Auflage der Gymnastikmatte)\nGetränke sind auch im Studio erhältlich\n\nAdresse/Kontakt: \n\nPole Soul Eisenstadt\nBischof Stefan Laszlo-Straße 17 (GL3)\, 7000 Eisenstadt\n0664 / 53 35 139\neisenstadt@pole-soul.at\n\nMelde dich gerne bei mir\, wenn du Fragen hast\, viel Spaß im Training 😊
URL:https://mlg.yourws.at/event/high-heels-eisenstadt/2026-03-06/
LOCATION:Pole Soul | Eisenstadt\, Bischof-Stefan-Laszlo Straße 17/GL3\, Eisenstadt\, Burgenland\, 7000\, Austria
CATEGORIES:Pole Soul | Eisenstadt
ATTACH;FMTTYPE=image/jpeg:https://mlg.yourws.at/wp-content/uploads/2025/06/20250426_114920930_iOS.jpg
ORGANIZER;CN="Pole Soul Eisenstadt | Tanz deine Seele frei.":MAILTO:eisenstadt@pole-soul.at
END:VEVENT
BEGIN:VEVENT
DTSTART;TZID=UTC:20260313T175000
DTEND;TZID=UTC:20260313T192000
DTSTAMP:20260425T173847
CREATED:20251024T025815Z
LAST-MODIFIED:20260121T103658Z
UID:10004737-1773424200-1773429600@mlg.yourws.at
SUMMARY:HIGH HEELS - Eisenstadt
DESCRIPTION:ABO: €99\,-/Monat (Eisenstadt) \nVielen Dank für deine Anmeldung 🙂 \nDein Kurs “ HIGH HEELS“ mit Antonia im Studio EISENSTADT und findet immer freitags um 17:50 statt. Keine Vorkenntnisse nötig! \nHier lernst du deine High Heels beim Tanzen an der Stange gezielt einzusetzen. Dich erwarten Heel Clacks\, Drops\, sexy Moves & ein abwechslungsreicher laufender Kurs. Antonia ist unsere perfekte Trainerin für diesen einzigartigen Kurs in der Kleingruppe. \nHast du schon ein Abo bei uns\, dann bekommst du den zweiten Kurs um minus 50% \nANMELDUNG (bitte Startdatum in die Nachricht schreiben!): Kontakt | Pole Soul Eisenstadt & Wien 10 ► Jetzt melden! \nAlle Infos findest du auch auf www.pole-soul.at \nMerkliste: \n\nSportoutfit\nHigh Heels (unbedingt)\, wir empfehlen „7 Inch“ Heels für Beginner\nKnieschoner von Vorteil\ngroßes Handtuch (als Auflage der Gymnastikmatte)\nGetränke sind auch im Studio erhältlich\n\nAdresse/Kontakt: \n\nPole Soul Eisenstadt\nBischof Stefan Laszlo-Straße 17 (GL3)\, 7000 Eisenstadt\n0664 / 53 35 139\neisenstadt@pole-soul.at\n\nMelde dich gerne bei mir\, wenn du Fragen hast\, viel Spaß im Training 😊
URL:https://mlg.yourws.at/event/high-heels-eisenstadt/2026-03-13/
LOCATION:Pole Soul | Eisenstadt\, Bischof-Stefan-Laszlo Straße 17/GL3\, Eisenstadt\, Burgenland\, 7000\, Austria
CATEGORIES:Pole Soul | Eisenstadt
ATTACH;FMTTYPE=image/jpeg:https://mlg.yourws.at/wp-content/uploads/2025/06/20250426_114920930_iOS.jpg
ORGANIZER;CN="Pole Soul Eisenstadt | Tanz deine Seele frei.":MAILTO:eisenstadt@pole-soul.at
END:VEVENT
BEGIN:VEVENT
DTSTART;TZID=UTC:20260320T175000
DTEND;TZID=UTC:20260320T192000
DTSTAMP:20260425T173847
CREATED:20251024T025815Z
LAST-MODIFIED:20260121T103658Z
UID:10004738-1774029000-1774034400@mlg.yourws.at
SUMMARY:HIGH HEELS - Eisenstadt
DESCRIPTION:ABO: €99\,-/Monat (Eisenstadt) \nVielen Dank für deine Anmeldung 🙂 \nDein Kurs “ HIGH HEELS“ mit Antonia im Studio EISENSTADT und findet immer freitags um 17:50 statt. Keine Vorkenntnisse nötig! \nHier lernst du deine High Heels beim Tanzen an der Stange gezielt einzusetzen. Dich erwarten Heel Clacks\, Drops\, sexy Moves & ein abwechslungsreicher laufender Kurs. Antonia ist unsere perfekte Trainerin für diesen einzigartigen Kurs in der Kleingruppe. \nHast du schon ein Abo bei uns\, dann bekommst du den zweiten Kurs um minus 50% \nANMELDUNG (bitte Startdatum in die Nachricht schreiben!): Kontakt | Pole Soul Eisenstadt & Wien 10 ► Jetzt melden! \nAlle Infos findest du auch auf www.pole-soul.at \nMerkliste: \n\nSportoutfit\nHigh Heels (unbedingt)\, wir empfehlen „7 Inch“ Heels für Beginner\nKnieschoner von Vorteil\ngroßes Handtuch (als Auflage der Gymnastikmatte)\nGetränke sind auch im Studio erhältlich\n\nAdresse/Kontakt: \n\nPole Soul Eisenstadt\nBischof Stefan Laszlo-Straße 17 (GL3)\, 7000 Eisenstadt\n0664 / 53 35 139\neisenstadt@pole-soul.at\n\nMelde dich gerne bei mir\, wenn du Fragen hast\, viel Spaß im Training 😊
URL:https://mlg.yourws.at/event/high-heels-eisenstadt/2026-03-20/
LOCATION:Pole Soul | Eisenstadt\, Bischof-Stefan-Laszlo Straße 17/GL3\, Eisenstadt\, Burgenland\, 7000\, Austria
CATEGORIES:Pole Soul | Eisenstadt
ATTACH;FMTTYPE=image/jpeg:https://mlg.yourws.at/wp-content/uploads/2025/06/20250426_114920930_iOS.jpg
ORGANIZER;CN="Pole Soul Eisenstadt | Tanz deine Seele frei.":MAILTO:eisenstadt@pole-soul.at
END:VEVENT
BEGIN:VEVENT
DTSTART;TZID=UTC:20260327T175000
DTEND;TZID=UTC:20260327T192000
DTSTAMP:20260425T173847
CREATED:20251024T025815Z
LAST-MODIFIED:20260121T103658Z
UID:10004739-1774633800-1774639200@mlg.yourws.at
SUMMARY:HIGH HEELS - Eisenstadt
DESCRIPTION:ABO: €99\,-/Monat (Eisenstadt) \nVielen Dank für deine Anmeldung 🙂 \nDein Kurs “ HIGH HEELS“ mit Antonia im Studio EISENSTADT und findet immer freitags um 17:50 statt. Keine Vorkenntnisse nötig! \nHier lernst du deine High Heels beim Tanzen an der Stange gezielt einzusetzen. Dich erwarten Heel Clacks\, Drops\, sexy Moves & ein abwechslungsreicher laufender Kurs. Antonia ist unsere perfekte Trainerin für diesen einzigartigen Kurs in der Kleingruppe. \nHast du schon ein Abo bei uns\, dann bekommst du den zweiten Kurs um minus 50% \nANMELDUNG (bitte Startdatum in die Nachricht schreiben!): Kontakt | Pole Soul Eisenstadt & Wien 10 ► Jetzt melden! \nAlle Infos findest du auch auf www.pole-soul.at \nMerkliste: \n\nSportoutfit\nHigh Heels (unbedingt)\, wir empfehlen „7 Inch“ Heels für Beginner\nKnieschoner von Vorteil\ngroßes Handtuch (als Auflage der Gymnastikmatte)\nGetränke sind auch im Studio erhältlich\n\nAdresse/Kontakt: \n\nPole Soul Eisenstadt\nBischof Stefan Laszlo-Straße 17 (GL3)\, 7000 Eisenstadt\n0664 / 53 35 139\neisenstadt@pole-soul.at\n\nMelde dich gerne bei mir\, wenn du Fragen hast\, viel Spaß im Training 😊
URL:https://mlg.yourws.at/event/high-heels-eisenstadt/2026-03-27/
LOCATION:Pole Soul | Eisenstadt\, Bischof-Stefan-Laszlo Straße 17/GL3\, Eisenstadt\, Burgenland\, 7000\, Austria
CATEGORIES:Pole Soul | Eisenstadt
ATTACH;FMTTYPE=image/jpeg:https://mlg.yourws.at/wp-content/uploads/2025/06/20250426_114920930_iOS.jpg
ORGANIZER;CN="Pole Soul Eisenstadt | Tanz deine Seele frei.":MAILTO:eisenstadt@pole-soul.at
END:VEVENT
END:VCALENDAR